BEGIN:VCALENDAR
VERSION:2.0
PRODID:-//wp-events-plugin.com//7.2.3.1//EN
BEGIN:VEVENT
UID:10@aralez.org
DTSTART;VALUE=DATE:20201201
DTEND;VALUE=DATE:20211208
DTSTAMP:20230319T141027Z
URL:https://aralez.org/activities/gift-hope-2021/
SUMMARY:Նվիրիր Հույս 2021
DESCRIPTION:Արալեզը կազմակերպում է «Նվիրիր Հո
 ւյս» իր նախաձեռնած ծրագիրը\, որտեղ տարին
 երի ընթացքում 2500+ երեխա Հայաստանի և Արցա
 խի սահմանամերձ երեխաներին նոր տարվա նվե
 րներու ուրախացնում ենք
ATTACH;FMTTYPE=image/jpeg:https://i0.wp.com/aralez.org/wp-content/uploads/
 2023/03/Gift-Hope-Cover.webp?fit=1640%2C924&ssl=1
CATEGORIES:Երեխաներին ուղղված ծրագրեր
END:VEVENT
END:VCALENDAR