BEGIN:VCALENDAR
VERSION:2.0
PRODID:-//wp-events-plugin.com//7.2.3.1//EN
BEGIN:VEVENT
UID:1@aralez.org
DTSTART:20230427T060000Z
DTEND:20230427T140000Z
DTSTAMP:20230424T113535Z
URL:https://aralez.org/activities/fge2023/
SUMMARY:Ծաղկահավաք / Flower Gathering
DESCRIPTION:«ԱՐԱԼԵԶ» Բարեգործական ՀԿ-ն՝ Վայրի 
 բնության և մշակութային արժեքների պահպան
 ման հիմնադրամի օժանդակությամբ\, հրավիրո
 ւմ է Ձեզ մասնակցելու ամենամյա «Ծաղկահավ
 աք» միջոցառմանը\n\n🗓️ Տեղի կունենա սույ
 ն թվականի ապրիլի 27-ին՝ ժամը 10:00-18:00\n📍Ծիծ
 եռնակաբերդի հուշահամալիրում:\n\nՄասնակցե
 լու պայմանները\n\n 	Բոլոր մասնակիցները պա
 րտադիր պետք է նախապես գրանցվեն ծրագրին\n 
 	Յուրաքանչյուր մասնակից իր հետ պետք է ու
 նենա՝\n\n 	Մկրատ\n 	Ձեռնոց\n 	Խմելու ջուր\n 	Ա
 րևային գլխարկ\n\n\n 	Բոլոր մասնակիցները պե
 տք է մասնակցեն ծրագրի հետևյալ գործերին․
 \n\n 	Ծաղկեթերթերի առանձնացում ցողունների
 ց (Այս տարի բոլոր ծաղկետեսակներն ենք առա
 նձնացնում)\n 	Ծաղկեթերթերի տեղում վերամշ
 ակման աշխատանքներին\n 	Անմար կրակի տարած
 քի մաքրության աշխատանքներին\n 	Ընդհանուր
  տարածքի մաքրության\n\n\n\nՈւշադրություն\nԱ
 յս տարի սեղանների փոխարեն լինելու են ջրա
 կայուն ներքնակներ՝ փաթաթաված\, որոնք տեղ
 ադրվելու են հատակին\, ուր մասնակիցներն ա
 շխատանքներն իրականանցելու են հատակին նս
 տած\, իսկ ծրագրի ավարտին\, այդ ներքնակներ
 ը (ջրակայուն\, ջերմամեկուսացված և արևի ճա
 ռագայթներից մեկուսացված) տրամադրվելու ե
 ն սահմանապահ տղաներին\n[gallery type="rectangular" link
 ="none" size="full" columns="2" ids="10141\,10143"]\n\n\nԱպրիլի 24-
 ին Ծիծեռնակաբերդի հուշահամալիրում խոնա
 րհված ծաղիկներն ամեն տարի հավաքվում են\, 
 դրանց ցողունն անջատվում է ծաղկաթերթերից
 . առաջինից պարարտախառնուրդ է ստացվում\, ի
 սկ ծաղկաթերթերն օգտագործվում են ձեռակեր
 տ վերամշակված թուղթ և մոմ պատրաստելու հա
 մար:\nՁեռակերտ թղթից հուշագրեր\, շնորհակա
 լագրեր\, բացիկներ են պատրաստվում:\n\nՆախաձ
 եռնությունը մեկտեղում է պոկված ծաղիկներ
 ին «երկրորդ կյանք» հաղորդելու խորհուրդը
  և բնապահպանական՝ վերամշակման միջոցով\, 
 կրկին օգտագործելու առաքելությունը:\nԱյս 
 տարի նույնպես\, ականատես կլինեք խմբի կող
 մից իրականացվող վերամշակման գործընթացի
 ն (կարող է չեղարկվել եղանակային վատ պայմ
 անների պատճառով):\n
ATTACH;FMTTYPE=image/jpeg:https://i0.wp.com/aralez.org/wp-content/uploads/
 2022/03/%D4%BE%D5%A1%D5%B2%D5%AF%D5%A1%D5%B0%D5%A1%D5%BE%D5%A1%D6%84-16x9-
 1.png?fit=1920%2C1080&ssl=1
CATEGORIES:Բնապահպանական,Կամավորություն
LOCATION:Ծիծեռնակաբերդի հուշահամալիր\, 8 Ծիծե
 ռնակաբերդ\, Երևան\, 0028\, Armenia
X-APPLE-STRUCTURED-LOCATION;VALUE=URI;X-ADDRESS=8 Ծիծեռնակաբեր
 դ\, Երևան\, 0028\, Armenia;X-APPLE-RADIUS=100;X-TITLE=Ծիծեռնա
 կաբերդի հուշահամալիր:geo:0,0
END:VEVENT
END:VCALENDAR