BEGIN:VCALENDAR
VERSION:2.0
PRODID:-//wp-events-plugin.com//7.2.3.1//EN
BEGIN:VEVENT
UID:22@aralez.org
DTSTART;VALUE=DATE:20231001
DTEND;VALUE=DATE:20231101
DTSTAMP:20231003T113039Z
URL:https://aralez.org/activities/chkitch2023/
SUMMARY:Բարեգործական Խոհանոց (Կամավորների Հ
 ավաք)
DESCRIPTION:Միանալու եք «Բարեգործական Խոհանոց
 » ընթացիկ ծրագրին\, որում ձեր պարտականու
 թյունը լինելու է կազմակերպել սննդի ստան
 ալու և բաժանելու գործընթացը՝ 50 ժամը լրաց
 նելու դեպքում կստանաք հավաստագիր:
ATTACH;FMTTYPE=image/jpeg:https://i0.wp.com/aralez.org/wp-content/uploads/
 2023/10/Charity-Kitchen-Artsakh.webp?fit=1920%2C1080&ssl=1
CATEGORIES:Կամավորություն
LOCATION:ԱՐԱԼԵԶ Կենտրոն\, Մամիկոնյանց 58\, Երևա
 ն\, 0051\, Armenia
X-APPLE-STRUCTURED-LOCATION;VALUE=URI;X-ADDRESS=Մամիկոնյանց 58\,
  Երևան\, 0051\, Armenia;X-APPLE-RADIUS=100;X-TITLE=ԱՐԱԼԵԶ Կե
 նտրոն:geo:0,0
END:VEVENT
END:VCALENDAR