BEGIN:VCALENDAR
VERSION:2.0
PRODID:-//wp-events-plugin.com//7.2.3.1//EN
BEGIN:VEVENT
UID:6@aralez.org
DTSTART:20240421T150000Z
DTEND:20240421T180000Z
DTSTAMP:20240411T103230Z
URL:https://aralez.org/activities/candlevigil2024/
SUMMARY:Մոմավառություն Կարապի լճում
DESCRIPTION:Մեծ եղեռնի 109-րդ տարելիցին ընդառաջ\
 , իրականացնելու ենք ամենամյա Մոմավառութ
 յուն ի հիշատակ հայոց ցեղասպանության ընթ
 ացքում վասն հավատի և վասն Հայրենյաց մեր 
 սուրբ նահատակների հիշատակին:
ATTACH;FMTTYPE=image/jpeg:https://i0.wp.com/aralez.org/wp-content/uploads/
 2023/03/Candle-vigil-cover.webp?fit=1920%2C1080&ssl=1
CATEGORIES:Ռազմահայրենասիրական
LOCATION:կարա\, Կարապի Լիճ (Օպերա)\, Երևան\, Armenia
X-APPLE-STRUCTURED-LOCATION;VALUE=URI;X-ADDRESS=Կարապի Լիճ (Օպե
 րա)\, Երևան\, Armenia;X-APPLE-RADIUS=100;X-TITLE=կարա:geo:0,0
END:VEVENT
END:VCALENDAR