BEGIN:VCALENDAR
VERSION:2.0
PRODID:-//wp-events-plugin.com//7.2.3.1//EN
BEGIN:VEVENT
UID:21@aralez.org
DTSTART:20230923T010000Z
DTEND:20230924T010000Z
DTSTAMP:20230918T154338Z
URL:https://aralez.org/activities/%d5%b4%d5%b8%d6%82%d5%bd%d5%a1-%d5%ac%d5
 %a5%d5%bc%d5%a1%d5%b6-%d5%bf%d5%b8%d5%b6%d5%a1%d5%af%d5%a1%d5%bf%d5%a1%d6%
 80%d5%b8%d6%82%d5%a9%d5%b5%d5%b8%d6%82%d5%b6/
SUMMARY:Մուսա լեռան տոնակատարություն
DESCRIPTION:Մուսա լեռան տոնակատարություն (Մու
 սալեռի օր\, Սուրբ Խաչի օր\, Մուսալեռի հաղթ
 անակի օր\, Մուսալեռցիների տոն) Մուսա լեռա
 ն հերոսամարտը ոգեկոչող ամենամյա տոնակատ
 արություն\, որը տեղի է ունենում սեպտեմբե
 րի երրորդ կիրակի օրը՝ Էջմիածնի հարևանու
 թյամբ գտնվող Մուսալեռ գյուղում։ Տոնը ըն
 դգրկվել է ՀՀ ոչ նյութական մշակութային ժա
 ռանգության արժեքների ցանկում:\n\nԱյս տարի
  միջոցառումը տեղի կունենա սեպտեմբերի 24-ի
 ն։ Սեպտեմբերի 23-ից Արալեզի կամավորների թ
 իմը կսկսի հարիսայի պատրաստման գործընթաց
 ը։\n\nՄուսա լեռան տոնակատարության միջոցա
 ռման աշխատանքներին՝ կամավոր սկզբունքով\
 , կարող եք միանալ\, եթե լրացել է Ձեր 18 տարե
 կանը և պատրաստ եք միանալ այդ 2 օրերին (սեպ
 տեմբերի 23-ից սկսվում է հարիսայի պատրաստո
 ւմը\, որը տևում է ողջ գիշեր)։\n\nՀավաստագիր
  տրվում է այն կամավորներին\, ովքեր բարեխղ
 ճորեն կատարել են իրենց ստանձնած աշխատան
 քները և ցուցաբերել են բարեկիրթ վարք։
ATTACH;FMTTYPE=image/jpeg:https://i0.wp.com/aralez.org/wp-content/uploads/
 2023/09/Musaler.webp?fit=1920%2C1080&ssl=1
LOCATION:https://www.google.com/maps/place/%D5%84%D5%B8%D6%82%D5%BD%D5%A1+%
 D5%AC%D5%A5%D5%BC%D5%A1%D5%B6+%D5%B0%D5%A5%D6%80%D5%B8%D5%BD%D5%A1%D5%B4%D
 5%A1%D6%80%D5%BF%D5%AB+%D5%BA%D5%A1%D5%BF%D5%B4%D5%B8%D6%82%D5%A9%D5%B5%D5
 %A1%D5%B6+%D6%87+%D5%B4%D5%B8%D6%82%D5%BD%D5%A1%D5%AC%D5%A5%D5%BC%D6%81%D5
 %AB%D5%B6%D5%A5%D6%80%D5%AB+%D5%A1%D5%A6%D5%A3%D5%A1%D5%A3%D6%80%D5%B8%D6%
 82%D5%A9%D5%B5%D5%A1%D5%B6+%D5%A9%D5%A1%D5%B6%D5%A3%D5%A1%D6%80%D5%A1%D5%B
 6/@40.1562526,44.3697774,15z/data=!4m15!1m8!3m7!1s0x406abe2ba3c014f7:0xd0f
 e4af7be8dce84!2sMusaler!3b1!8m2!3d40.1578309!4d44.3793997!16s%2Fm%2F04ct10
 2!3m5!1s0x406abff23d7922e1:0x646d944763c5c87e!8m2!3d40.1547107!4d44.379937
 5!16s%2Fg%2F11rylkwcwq?entry=ttu
END:VEVENT
END:VCALENDAR